BEGIN:VCALENDAR
VERSION:2.0
PRODID:-//L&#039;atelier des comètes - ECPv6.0.3.1//NONSGML v1.0//EN
CALSCALE:GREGORIAN
METHOD:PUBLISH
X-WR-CALNAME:L&#039;atelier des comètes
X-ORIGINAL-URL:https://latelierdescometes.com
X-WR-CALDESC:évènements pour L&#039;atelier des comètes
REFRESH-INTERVAL;VALUE=DURATION:PT1H
X-Robots-Tag:noindex
X-PUBLISHED-TTL:PT1H
BEGIN:VTIMEZONE
TZID:UTC
BEGIN:STANDARD
TZOFFSETFROM:+0000
TZOFFSETTO:+0000
TZNAME:UTC
DTSTART:20220101T000000
END:STANDARD
END:VTIMEZONE
BEGIN:VEVENT
DTSTART;TZID=UTC:20221209T163000
DTEND;TZID=UTC:20221209T210000
DTSTAMP:20260421T145054
CREATED:20221122T073203Z
LAST-MODIFIED:20221122T073203Z
UID:10000004-1670603400-1670619600@latelierdescometes.com
SUMMARY:Marché de Noël
DESCRIPTION:
URL:https://latelierdescometes.com/event/marche-de-noel/
LOCATION:Beaulieu-les-fontaines\, France
ATTACH;FMTTYPE=image/png:https://latelierdescometes.com/wp-content/uploads/2022/11/MARCHE-de-NOEL-2.png
END:VEVENT
END:VCALENDAR